View In:
ArcGIS JavaScript
ArcGIS Online Map Viewer
ArcGIS Earth
ArcMap
ArcGIS Pro
View Footprint In:
ArcGIS Online Map Viewer
Service Description: Tiled imagery of Okaloosa County; excluding Eglin and Hurlbert Air Force bases. Imagery in those excluded areas is from 2013.
Map Name: Layers
Legend
All Layers and Tables
Layers:
Description: Tiled imagery of Okaloosa County; excluding Eglin and Hurlbert Air Force bases. Imagery in those excluded areas is from 2013.
Service Item Id: 1bc8612bb2b14afd9980c6ce57d0a338
Copyright Text: Okaloosa County GIS Department
Spatial Reference:
102100
(3857)
LatestVCSWkid(0)
Single Fused Map Cache: true
Tile Info:
- Height: 256
- Width: 256
- DPI: 96
-
Levels of Detail: 24
-
Level ID: 0
[ Start Tile, End Tile ]
- Resolution: 156543.03392800014
- Scale: 5.91657527591555E8
-
Level ID: 1
[ Start Tile, End Tile ]
- Resolution: 78271.51696399994
- Scale: 2.95828763795777E8
-
Level ID: 2
[ Start Tile, End Tile ]
- Resolution: 39135.75848200009
- Scale: 1.47914381897889E8
-
Level ID: 3
[ Start Tile, End Tile ]
- Resolution: 19567.87924099992
- Scale: 7.3957190948944E7
-
Level ID: 4
[ Start Tile, End Tile ]
- Resolution: 9783.93962049996
- Scale: 3.6978595474472E7
-
Level ID: 5
[ Start Tile, End Tile ]
- Resolution: 4891.96981024998
- Scale: 1.8489297737236E7
- Format: MIXED
- Compression Quality: 75.0
- Origin: X: -2.0037508342787E7
Y: 2.0037508342787E7
- Spatial Reference: 102100
(3857)
LatestVCSWkid(0)
Storage Info:
- Storage Format: esriMapCacheStorageModeCompactV2
- Packet Size: 128
Initial Extent:
XMin: -9686354.570001312
YMin: 3539081.8106136387
XMax: -9577837.21039579
YMax: 3642503.0511216642
Spatial Reference: 102100
(3857)
LatestVCSWkid(0)
Full Extent:
XMin: -9664814.429948235
YMin: 3550982.1285834755
XMax: -9614803.931177644
YMax: 3633739.9168872125
Spatial Reference: 102100
(3857)
LatestVCSWkid(0)
Units: esriMeters
Supported Image Format Types: PNG32,PNG24,PNG,JPG,DIB,TIFF,EMF,PS,PDF,GIF,SVG,SVGZ,BMP
Document Info:
Title: 2025 Aerial Ortho Mosiac
Author:
Comments: This map service depicts 3 inch and 6 inch aerial ortho mosaics that were flown in 2025 by Pictometry International Corp. The military owned areas of Eglin AFB that were excluded from the 2025 ortho mosaic project are filled in with a 9 inch ortho mosaic, also from Pictometry International Corp, that was flown in 2013. The 2025 ortho mosaics were collected from 12-01-2024 through 02-02-2025.
Subject: Mosaic aerial photography for 2025.
Category:
Keywords: Aerial 2025
AntialiasingMode: None
TextAntialiasingMode: None
Supports Dynamic Layers: false
Resampling: false
MaxRecordCount: 1000
MaxImageHeight: 4096
MaxImageWidth: 4096
Supported Query Formats: JSON, geoJSON, PBF
Supports Query Data Elements: true
Min Scale: 5.91657527591555E8
Max Scale: 70.5310735
Min LOD: 0
Max LOD: 23
Supports Datum Transformation: true
Child Resources:
Info
Supported Operations:
Export Map
QueryLegends
Return Updates