View In:
ArcGIS JavaScript
ArcGIS Online Map Viewer
ArcGIS Earth
ArcMap
ArcGIS Pro
View Footprint In:
ArcGIS Online Map Viewer
Service Description: <div style='text-align:Left;font-size:12pt'><div><p><span>This map service depicts 3 inch and 6 inch aerial ortho mosaics that were flown in 2025 by Pictometry International Corp. The military owned areas of Eglin AFB that were excluded from the 2025 ortho mosaic project are filled in with a 9 inch ortho mosaic, also from Pictometry International Corp, that was flown in 2013. The 2025 ortho mosaics were collected from 12-01-2024 through 02-02-2025.</span></p></div></div>
Map Name: Layers
Legend
All Layers and Tables
Dynamic Legend
Dynamic All Layers
Layers:
Description: This map service depicts 3 inch and 6 inch aerial ortho mosaics that were flown in 2025 by Pictometry International Corp. The military owned areas of Eglin AFB that were excluded from the 2025 ortho mosaic project are filled in with a 9 inch ortho mosaic, also from Pictometry International Corp, that was flown in 2013. The 2025 ortho mosaics were collected from 12-01-2024 through 02-02-2025.
Service Item Id: 6c69d45f58d44aa5b71878e844fbb126
Copyright Text: Okaloosa County GIS Department
Spatial Reference:
102100
(3857)
LatestVCSWkid(0)
Single Fused Map Cache: true
Tile Info:
- Height: 256
- Width: 256
- DPI: 96
-
Levels of Detail: 24
-
Level ID: 1
[ Start Tile, End Tile ]
- Resolution: 78271.5169639999
- Scale: 2.95828763795777E8
-
Level ID: 2
[ Start Tile, End Tile ]
- Resolution: 39135.7584820001
- Scale: 1.47914381897889E8
-
Level ID: 3
[ Start Tile, End Tile ]
- Resolution: 19567.8792409999
- Scale: 7.3957190948944E7
-
Level ID: 4
[ Start Tile, End Tile ]
- Resolution: 9783.93962049996
- Scale: 3.6978595474472E7
-
Level ID: 5
[ Start Tile, End Tile ]
- Resolution: 4891.96981024998
- Scale: 1.8489297737236E7
- Format: PNG
- Compression Quality: 0.0
- Origin: X: -2.0037508342787E7
Y: 2.0037508342787E7
- Spatial Reference: 102100
(3857)
LatestVCSWkid(0)
Storage Info:
- Storage Format: esriMapCacheStorageModeCompactV2
- Packet Size: 128
Initial Extent:
XMin: -9678749.788585043
YMin: 3570718.003608619
XMax: -9625100.459190222
YMax: 3628517.004890331
Spatial Reference: 102100
(0)
LatestVCSWkid(0)
Full Extent:
XMin: -9665320.522239849
YMin: 3550982.1285834755
XMax: -9614253.554033676
YMax: 3633739.9168872107
Spatial Reference: 102100
(0)
LatestVCSWkid(0)
Units: esriMeters
Supported Image Format Types: PNG32,PNG24,PNG,JPG,DIB,TIFF,EMF,PS,PDF,GIF,SVG,SVGZ,BMP
Document Info:
Title: 2025 Aerial Ortho Mosiac
Author:
Comments: This map service depicts 3 inch and 6 inch aerial ortho mosaics that were flown in 2025 by Pictometry International Corp. The military owned areas of Eglin AFB that were excluded from the 2025 ortho mosaic project are filled in with a 9 inch ortho mosaic, also from Pictometry International Corp, that was flown in 2013. The 2025 ortho mosaics were collected from 12-01-2024 through 02-02-2025.
Subject: Mosaic aerial photography for 2025.
Category:
Keywords: Aerial2022
AntialiasingMode: None
TextAntialiasingMode: Force
Supports Dynamic Layers: true
MaxRecordCount: 2000
MaxImageHeight: 4096
MaxImageWidth: 4096
Supported Query Formats: JSON, geoJSON, PBF
Supports Query Data Elements: true
Min Scale: 1155581.108577
Max Scale: 70.5310735
Min LOD: 10
Max LOD: 21
Supports Datum Transformation: true
Child Resources:
Info
Dynamic Layer
Supported Operations:
Export Map
Identify
QueryLegends
QueryDomains
Find
Return Updates